BEGIN:VCALENDAR
VERSION:2.0
PRODID:-//The Freefolk Brewery - ECPv6.15.20//NONSGML v1.0//EN
CALSCALE:GREGORIAN
METHOD:PUBLISH
X-WR-CALNAME:The Freefolk Brewery
X-ORIGINAL-URL:https://freefolkbrew.com
X-WR-CALDESC:Events for The Freefolk Brewery
REFRESH-INTERVAL;VALUE=DURATION:PT1H
X-Robots-Tag:noindex
X-PUBLISHED-TTL:PT1H
BEGIN:VTIMEZONE
TZID:America/New_York
BEGIN:DAYLIGHT
TZOFFSETFROM:-0500
TZOFFSETTO:-0400
TZNAME:EDT
DTSTART:20230312T070000
END:DAYLIGHT
BEGIN:STANDARD
TZOFFSETFROM:-0400
TZOFFSETTO:-0500
TZNAME:EST
DTSTART:20231105T060000
END:STANDARD
BEGIN:DAYLIGHT
TZOFFSETFROM:-0500
TZOFFSETTO:-0400
TZNAME:EDT
DTSTART:20240310T070000
END:DAYLIGHT
BEGIN:STANDARD
TZOFFSETFROM:-0400
TZOFFSETTO:-0500
TZNAME:EST
DTSTART:20241103T060000
END:STANDARD
BEGIN:DAYLIGHT
TZOFFSETFROM:-0500
TZOFFSETTO:-0400
TZNAME:EDT
DTSTART:20250309T070000
END:DAYLIGHT
BEGIN:STANDARD
TZOFFSETFROM:-0400
TZOFFSETTO:-0500
TZNAME:EST
DTSTART:20251102T060000
END:STANDARD
END:VTIMEZONE
BEGIN:VEVENT
DTSTART;TZID=America/New_York:20240727T190000
DTEND;TZID=America/New_York:20240727T210000
DTSTAMP:20260425T095159
CREATED:20240516T203442Z
LAST-MODIFIED:20240516T203442Z
UID:1329-1722106800-1722114000@freefolkbrew.com
SUMMARY:LIVE MUSIC with Grayson Samples!
DESCRIPTION:
URL:https://freefolkbrew.com/event/live-music-with-grayson-samples-2/
LOCATION:The Freefolk Taproom\, 1690 Court Street\, Fayettevile\, West Virginia\, 25840
END:VEVENT
BEGIN:VEVENT
DTSTART;TZID=America/New_York:20240720T190000
DTEND;TZID=America/New_York:20240720T210000
DTSTAMP:20260425T095159
CREATED:20240516T203328Z
LAST-MODIFIED:20240516T203328Z
UID:1327-1721502000-1721509200@freefolkbrew.com
SUMMARY:LIVE MUSIC with Chet Lowther!
DESCRIPTION:Chet is an acoustic local singer/songwriter!
URL:https://freefolkbrew.com/event/live-music-with-chet-lowther-4/
LOCATION:The Freefolk Taproom\, 1690 Court Street\, Fayettevile\, West Virginia\, 25840
END:VEVENT
BEGIN:VEVENT
DTSTART;TZID=America/New_York:20240713T190000
DTEND;TZID=America/New_York:20240713T210000
DTSTAMP:20260425T095159
CREATED:20240511T220956Z
LAST-MODIFIED:20240511T220956Z
UID:1324-1720897200-1720904400@freefolkbrew.com
SUMMARY:LIVE MUSIC with Ryan Brandenburg
DESCRIPTION:Ryan is a singer/songwriter specializing in flat picking acoustic guitar\, and claw hammer banjo\, hailing from the eastern panhandle of WV. He tries to represent as many different kinds of folk music as possible (this includes classic country\, old time Appalachian\, bluegrass\, and any other kind of lyrics based music). From hundred year old dance tunes with a pounding kick drum\, to brand new originals.
URL:https://freefolkbrew.com/event/live-music-with-ryan-brandenburg/
LOCATION:The Freefolk Taproom\, 1690 Court Street\, Fayettevile\, West Virginia\, 25840
END:VEVENT
BEGIN:VEVENT
DTSTART;TZID=America/New_York:20240706T190000
DTEND;TZID=America/New_York:20240706T210000
DTSTAMP:20260425T095159
CREATED:20240511T220614Z
LAST-MODIFIED:20240511T220614Z
UID:1322-1720292400-1720299600@freefolkbrew.com
SUMMARY:LIVE MUSIC with Jay Milam
DESCRIPTION:Entertainment that will suit any audience! Jay plays harmonica\, bass\, and lead guitar\, and plays a variety of covers.
URL:https://freefolkbrew.com/event/live-music-with-jay-milam-4/
LOCATION:The Freefolk Taproom\, 1690 Court Street\, Fayettevile\, West Virginia\, 25840
END:VEVENT
BEGIN:VEVENT
DTSTART;TZID=America/New_York:20240629T190000
DTEND;TZID=America/New_York:20240629T210000
DTSTAMP:20260425T095200
CREATED:20240511T220428Z
LAST-MODIFIED:20240511T220428Z
UID:1320-1719687600-1719694800@freefolkbrew.com
SUMMARY:LIVE MUSIC with Grayson Samples!
DESCRIPTION:
URL:https://freefolkbrew.com/event/live-music-with-grayson-samples/
LOCATION:The Freefolk Taproom\, 1690 Court Street\, Fayettevile\, West Virginia\, 25840
END:VEVENT
BEGIN:VEVENT
DTSTART;TZID=America/New_York:20240622T190000
DTEND;TZID=America/New_York:20240622T210000
DTSTAMP:20260425T095200
CREATED:20240511T210721Z
LAST-MODIFIED:20240511T210721Z
UID:1317-1719082800-1719090000@freefolkbrew.com
SUMMARY:LIVE MUSIC with Katy Tessman!
DESCRIPTION:Katy is an optimistic and approachable singer/songwriter based in Minneapolis. Her powerful vocals and rhythmic approach to guitar or mandolin express a straight from the heart songwriting style that moves passionately over diverse emotional and musical terrain.
URL:https://freefolkbrew.com/event/live-music-with-katy-tessman/
LOCATION:The Freefolk Taproom\, 1690 Court Street\, Fayettevile\, West Virginia\, 25840
END:VEVENT
BEGIN:VEVENT
DTSTART;TZID=America/New_York:20240615T190000
DTEND;TZID=America/New_York:20240615T210000
DTSTAMP:20260425T095200
CREATED:20240508T215120Z
LAST-MODIFIED:20240508T215120Z
UID:1314-1718478000-1718485200@freefolkbrew.com
SUMMARY:LIVE MUSIC with Alexander Nicole
DESCRIPTION:Appalachian singer/songwriter with Southern roots and influences of rock\, soul\, pop\, and folk!
URL:https://freefolkbrew.com/event/live-music-with-alexander-nicole/
LOCATION:The Freefolk Taproom\, 1690 Court Street\, Fayettevile\, West Virginia\, 25840
END:VEVENT
BEGIN:VEVENT
DTSTART;TZID=America/New_York:20240608T190000
DTEND;TZID=America/New_York:20240608T210000
DTSTAMP:20260425T095200
CREATED:20240508T214945Z
LAST-MODIFIED:20240508T214945Z
UID:1312-1717873200-1717880400@freefolkbrew.com
SUMMARY:LIVE MUSIC with Jay Milam
DESCRIPTION:Entertainment that will suit any audience! Jay plays harmonica\, bass\, and lead guitar\, and plays a variety of covers.
URL:https://freefolkbrew.com/event/live-music-with-jay-milam-3/
LOCATION:The Freefolk Taproom\, 1690 Court Street\, Fayettevile\, West Virginia\, 25840
END:VEVENT
BEGIN:VEVENT
DTSTART;TZID=America/New_York:20240601T190000
DTEND;TZID=America/New_York:20240601T210000
DTSTAMP:20260425T095200
CREATED:20240508T214710Z
LAST-MODIFIED:20240508T214710Z
UID:1310-1717268400-1717275600@freefolkbrew.com
SUMMARY:LIVE MUSIC with Zach Elmore
DESCRIPTION:Indie/folk artist from Monroe County\, WV!
URL:https://freefolkbrew.com/event/live-music-with-zach-elmore/
LOCATION:The Freefolk Taproom\, 1690 Court Street\, Fayettevile\, West Virginia\, 25840
END:VEVENT
BEGIN:VEVENT
DTSTART;TZID=America/New_York:20240525T190000
DTEND;TZID=America/New_York:20240525T210000
DTSTAMP:20260425T095200
CREATED:20240508T214117Z
LAST-MODIFIED:20240508T214117Z
UID:1308-1716663600-1716670800@freefolkbrew.com
SUMMARY:LIVE MUSIC with Justin Moyar
DESCRIPTION:Justin presents a unique one man blues experience. Combined with soul shredding harmonica solos and great songwriting\, he creates an engaging and fun show!
URL:https://freefolkbrew.com/event/live-music-with-justin-moyar/
LOCATION:The Freefolk Taproom\, 1690 Court Street\, Fayettevile\, West Virginia\, 25840
END:VEVENT
BEGIN:VEVENT
DTSTART;TZID=America/New_York:20240518T190000
DTEND;TZID=America/New_York:20240518T210000
DTSTAMP:20260425T095200
CREATED:20240508T213916Z
LAST-MODIFIED:20240508T213916Z
UID:1306-1716058800-1716066000@freefolkbrew.com
SUMMARY:LIVE MUSIC with Chet Lowther
DESCRIPTION:Chet is an acoustic local WV singer/songwriter!
URL:https://freefolkbrew.com/event/live-music-with-chet-lowther-3/
LOCATION:The Freefolk Taproom\, 1690 Court Street\, Fayettevile\, West Virginia\, 25840
END:VEVENT
BEGIN:VEVENT
DTSTART;TZID=America/New_York:20240511T190000
DTEND;TZID=America/New_York:20240511T210000
DTSTAMP:20260425T095200
CREATED:20240508T202018Z
LAST-MODIFIED:20240508T202018Z
UID:1304-1715454000-1715461200@freefolkbrew.com
SUMMARY:LIVE MUSIC with Bryce George
DESCRIPTION:Appalachian artist born and raised in Greenbrier County\, WV!
URL:https://freefolkbrew.com/event/live-music-with-bryce-george-2/
LOCATION:The Freefolk Taproom\, 1690 Court Street\, Fayettevile\, West Virginia\, 25840
END:VEVENT
BEGIN:VEVENT
DTSTART;TZID=America/New_York:20240427T190000
DTEND;TZID=America/New_York:20240427T210000
DTSTAMP:20260425T095200
CREATED:20240423T182157Z
LAST-MODIFIED:20240423T182157Z
UID:1300-1714244400-1714251600@freefolkbrew.com
SUMMARY:LIVE MUSIC with Aura Rise
DESCRIPTION:An incredible acoustic duo from right here in Fayetteville! Known for their high energy performances\, Aura Rise promises a night that will keep you partying and dancing until the last note!
URL:https://freefolkbrew.com/event/live-music-with-aura-rise/
LOCATION:The Freefolk Taproom\, 1690 Court Street\, Fayettevile\, West Virginia\, 25840
END:VEVENT
BEGIN:VEVENT
DTSTART;TZID=America/New_York:20240427T150000
DTEND;TZID=America/New_York:20240427T200000
DTSTAMP:20260425T095200
CREATED:20240423T151532Z
LAST-MODIFIED:20240423T151532Z
UID:1297-1714230000-1714248000@freefolkbrew.com
SUMMARY:Community Fundraiser
DESCRIPTION:We’re having a fundraiser for Marla & Johnny Carte to help them offset some of the cost of the devastating damage caused by the tornado that touched down in Hico on 4/2/24. Proceeds from our beer sales and pepperoni rolls will be donated! A donation box will also be present. \nLive music\, Silent Auction (items and baskets)\, Baked Goods! \nTo make a donation\, please contact:\nfreefolkbrew@gmail.com
URL:https://freefolkbrew.com/event/community-fundraiser/
LOCATION:The Freefolk Brewhouse & Tasting Room\, Hico\, West Virginia
END:VEVENT
BEGIN:VEVENT
DTSTART;TZID=America/New_York:20240420T190000
DTEND;TZID=America/New_York:20240420T200000
DTSTAMP:20260425T095200
CREATED:20240416T163457Z
LAST-MODIFIED:20240416T163457Z
UID:1289-1713639600-1713643200@freefolkbrew.com
SUMMARY:LIVE MUSIC with Shawn Benfield
DESCRIPTION:Shawn is back for another awesome show! This incredibly talented local artist always brings a fun vibe playing a range of tunes!
URL:https://freefolkbrew.com/event/live-music-with-shawn-benfield-2/
LOCATION:The Freefolk Taproom\, 1690 Court Street\, Fayettevile\, West Virginia\, 25840
END:VEVENT
BEGIN:VEVENT
DTSTART;TZID=America/New_York:20240420T150000
DTEND;TZID=America/New_York:20240420T200000
DTSTAMP:20260425T095200
CREATED:20240416T163205Z
LAST-MODIFIED:20240416T163205Z
UID:1286-1713625200-1713643200@freefolkbrew.com
SUMMARY:Puffer Stuffer Product Launch Party!
DESCRIPTION:What is the Puffer Stuffer? Find out at the launch party on 4/20/24 from 3-8:00!  \nLIVE MUSIC with Bronco Junction\, Merchant’s Deli food truck out of Beckley\, and Freefolk beer on tap! \nFor a sneak peek:
URL:https://freefolkbrew.com/event/puffer-stuffer-product-launch-party/
LOCATION:The Freefolk Brewhouse & Tasting Room\, Hico\, West Virginia
END:VEVENT
BEGIN:VEVENT
DTSTART;TZID=America/New_York:20240331T120000
DTEND;TZID=America/New_York:20240331T200000
DTSTAMP:20260425T095200
CREATED:20240305T205321Z
LAST-MODIFIED:20240305T205321Z
UID:1271-1711886400-1711915200@freefolkbrew.com
SUMMARY:We will be OPEN Easter Sunday!
DESCRIPTION:We will be open for regular business hours Easter Sunday\, come relax with us!
URL:https://freefolkbrew.com/event/we-will-be-open-easter-sunday/
LOCATION:The Freefolk Taproom\, 1690 Court Street\, Fayettevile\, West Virginia\, 25840
END:VEVENT
BEGIN:VEVENT
DTSTART;TZID=America/New_York:20240330T180000
DTEND;TZID=America/New_York:20240330T200000
DTSTAMP:20260425T095200
CREATED:20240305T205158Z
LAST-MODIFIED:20240305T205158Z
UID:1269-1711821600-1711828800@freefolkbrew.com
SUMMARY:LIVE MUSIC with Makenna Hope
DESCRIPTION:
URL:https://freefolkbrew.com/event/live-music-with-makenna-hope-2/
LOCATION:West Virginia
END:VEVENT
BEGIN:VEVENT
DTSTART;TZID=America/New_York:20240323T180000
DTEND;TZID=America/New_York:20240323T200000
DTSTAMP:20260425T095200
CREATED:20240305T205121Z
LAST-MODIFIED:20240305T205121Z
UID:1267-1711216800-1711224000@freefolkbrew.com
SUMMARY:LIVE MUSIC with Chet Lowther
DESCRIPTION:
URL:https://freefolkbrew.com/event/live-music-with-chet-lowther-2/
LOCATION:The Freefolk Taproom\, 1690 Court Street\, Fayettevile\, West Virginia\, 25840
END:VEVENT
BEGIN:VEVENT
DTSTART;TZID=America/New_York:20240322T180000
DTEND;TZID=America/New_York:20240322T220000
DTSTAMP:20260425T095200
CREATED:20240123T175254Z
LAST-MODIFIED:20240305T205436Z
UID:1183-1711130400-1711144800@freefolkbrew.com
SUMMARY:ART SHOWDOWN!  FUNDRAISER FOR LOVE HOPE ARTS
DESCRIPTION:ART SHOWDOWN! FUNDRAISER FOR LOVE HOPE ARTS at Freefolk HICO Brewhouse\nBRACKET STYLE LIVE PAINTING COMPETITION BETWEEN 12 ARTISTS\nHICO! HICO! HICO! 6-10PM \nTICKETS HERE!\nhttps://givebutter.com/s7Qtn9?s=M5FAN9″>https://givebutter.com/s7Qtn9?s=M5FAN9
URL:https://freefolkbrew.com/event/art-showdown-fundraiser-for-love-hope-arts/
LOCATION:The Freefolk Brewhouse & Tasting Room\, Hico\, West Virginia
END:VEVENT
BEGIN:VEVENT
DTSTART;TZID=America/New_York:20240317T120000
DTEND;TZID=America/New_York:20240317T200000
DTSTAMP:20260425T095200
CREATED:20240305T205032Z
LAST-MODIFIED:20240305T205032Z
UID:1265-1710676800-1710705600@freefolkbrew.com
SUMMARY:St. Paddy's Day party!
DESCRIPTION:Come celebrate St. Paddy’s day with us! We’ll have holiday inspired cocktail and food specials!
URL:https://freefolkbrew.com/event/st-paddys-day-party/
LOCATION:The Freefolk Taproom\, 1690 Court Street\, Fayettevile\, West Virginia\, 25840
END:VEVENT
BEGIN:VEVENT
DTSTART;TZID=America/New_York:20240316T180000
DTEND;TZID=America/New_York:20240316T200000
DTSTAMP:20260425T095200
CREATED:20240305T204748Z
LAST-MODIFIED:20240305T204748Z
UID:1263-1710612000-1710619200@freefolkbrew.com
SUMMARY:LIVE MUSIC with Bryce George
DESCRIPTION:
URL:https://freefolkbrew.com/event/live-music-with-bryce-george/
LOCATION:The Freefolk Taproom\, 1690 Court Street\, Fayettevile\, West Virginia\, 25840
END:VEVENT
BEGIN:VEVENT
DTSTART;TZID=America/New_York:20240316T120000
DTEND;TZID=America/New_York:20240316T170000
DTSTAMP:20260425T095200
CREATED:20240305T204652Z
LAST-MODIFIED:20240305T204652Z
UID:1261-1710590400-1710608400@freefolkbrew.com
SUMMARY:Maple Days Festival
DESCRIPTION:Our annual Maple Days Festival! We’ll be releasing our Hickory Horned Devil maple cream ale; using local syrup\, sap and sap water from Blossom Hill Farm.  \nWe will have awesome local vendors coming our for our Maple Days party! Vendors will be set up 12-5 and don’t forget\, we’ll have Chicken & Waffles to celebrate all that maple goodness!
URL:https://freefolkbrew.com/event/maple-days-festival/
LOCATION:The Freefolk Taproom\, 1690 Court Street\, Fayettevile\, West Virginia\, 25840
END:VEVENT
BEGIN:VEVENT
DTSTART;TZID=America/New_York:20240309T180000
DTEND;TZID=America/New_York:20240309T200000
DTSTAMP:20260425T095200
CREATED:20240305T204143Z
LAST-MODIFIED:20240305T204143Z
UID:1259-1710007200-1710014400@freefolkbrew.com
SUMMARY:LIVE MUSIC with Jay Milam
DESCRIPTION:
URL:https://freefolkbrew.com/event/live-music-with-jay-milam-2/
LOCATION:The Freefolk Taproom\, 1690 Court Street\, Fayettevile\, West Virginia\, 25840
END:VEVENT
BEGIN:VEVENT
DTSTART;TZID=America/New_York:20240302T180000
DTEND;TZID=America/New_York:20240302T200000
DTSTAMP:20260425T095200
CREATED:20240130T171207Z
LAST-MODIFIED:20240130T171207Z
UID:1220-1709402400-1709409600@freefolkbrew.com
SUMMARY:LIVE MUSIC with Shawn Benfield
DESCRIPTION:
URL:https://freefolkbrew.com/event/live-music-with-shawn-benfield/
LOCATION:The Freefolk Taproom\, 1690 Court Street\, Fayettevile\, West Virginia\, 25840
END:VEVENT
BEGIN:VEVENT
DTSTART;TZID=America/New_York:20240301T190000
DTEND;TZID=America/New_York:20240301T210000
DTSTAMP:20260425T095200
CREATED:20240130T170949Z
LAST-MODIFIED:20240130T170949Z
UID:1217-1709319600-1709326800@freefolkbrew.com
SUMMARY:Karaoke Friday!
DESCRIPTION:
URL:https://freefolkbrew.com/event/karaoke-friday/
LOCATION:The Freefolk Taproom\, 1690 Court Street\, Fayettevile\, West Virginia\, 25840
END:VEVENT
BEGIN:VEVENT
DTSTART;TZID=America/New_York:20240224T130000
DTEND;TZID=America/New_York:20240224T170000
DTSTAMP:20260425T095200
CREATED:20240109T175502Z
LAST-MODIFIED:20240109T175502Z
UID:1166-1708779600-1708794000@freefolkbrew.com
SUMMARY:Winterplace Tap Takeover
DESCRIPTION:Come join us for some fresh beer and give aways!
URL:https://freefolkbrew.com/event/winterplace-tap-takeover-2/
LOCATION:Winterplace Ski Resort\, 100 Old Flat Top Mountain Rd\, Ghent\, WV\, 25843\, United States
END:VEVENT
BEGIN:VEVENT
DTSTART;TZID=America/New_York:20240224T060000
DTEND;TZID=America/New_York:20240224T200000
DTSTAMP:20260425T095200
CREATED:20240130T170439Z
LAST-MODIFIED:20240130T170439Z
UID:1214-1708754400-1708804800@freefolkbrew.com
SUMMARY:LIVE MUSIC with Jay Milam
DESCRIPTION:
URL:https://freefolkbrew.com/event/live-music-with-jay-milam/
LOCATION:The Freefolk Taproom\, 1690 Court Street\, Fayettevile\, West Virginia\, 25840
END:VEVENT
BEGIN:VEVENT
DTSTART;TZID=America/New_York:20240217T180000
DTEND;TZID=America/New_York:20240217T200000
DTSTAMP:20260425T095200
CREATED:20240130T170314Z
LAST-MODIFIED:20240130T170314Z
UID:1211-1708192800-1708200000@freefolkbrew.com
SUMMARY:LIVE MUSIC with Makenna Hope
DESCRIPTION:
URL:https://freefolkbrew.com/event/live-music-with-makenna-hope/
LOCATION:The Freefolk Taproom\, 1690 Court Street\, Fayettevile\, West Virginia\, 25840
END:VEVENT
BEGIN:VEVENT
DTSTART;TZID=America/New_York:20240207T180000
DTEND;TZID=America/New_York:20240207T200000
DTSTAMP:20260425T095200
CREATED:20240130T170136Z
LAST-MODIFIED:20240130T170136Z
UID:1208-1707328800-1707336000@freefolkbrew.com
SUMMARY:EVERY WEDNESDAY HAPPY HOUR!
DESCRIPTION:
URL:https://freefolkbrew.com/event/every-wednesday-happy-hour/
LOCATION:The Freefolk Taproom\, 1690 Court Street\, Fayettevile\, West Virginia\, 25840
END:VEVENT
END:VCALENDAR